BEGIN:VCALENDAR
VERSION:2.0
PRODID:-//hacksw/handcal//NONSGML v1.0//EN
BEGIN:VEVENT
SUMMARY:Hwarangs EVB 2026
UID:ddfb496b-5ca7-45c9-a845-cbf8ea6fae32
DTSTART:20260509T070000Z
DTEND:20260510T160000Z
LOCATION:Localisation 90 rue Feray 91100 Corbeil-Essonnes
CATEGORIES:Sportif
STATUS:
DESCRIPTION:<p>Challenge des Hwarangs EVB 2026
 !!!</p>
 
 <p> </p>
 
 <p>09 mai 2026 : Grands Hwarangs / Cadets -
 Juniors - Seniors - Master / 2014 et av.</p>
 
 <p>Competition en
 Individuels et Equipes. Puissance - Vitesse - Dexterite - Parcours -
 Casse - Resistance - Demo</p>
 
 <p> </p>
 
 <p>10 mai 2026 : Petits
 Hwarangs / Babies - Pupilles - Benjamins - Minimes /
 2015-2021</p>
 
 <p>Competition en Individuels. Assauts - Vitesse -
 Dexterite - Parcours - Puissance</p>
URL;VALUE=URI:https://www.taekwondoyerrois.com/evenements/2026/05/09/hwarangs-evb-2026-2441325
END:VEVENT
END:VCALENDAR
